BEGIN:VCALENDAR
VERSION:2.0
PRODID:icalendar-ruby
CALSCALE:GREGORIAN
METHOD:PUBLISH
BEGIN:VEVENT
DTSTAMP:20260426T014758Z
UID:36-1110690@fbcbluejacket.com
DTSTART:20260930T230000Z
DTEND:20261001T001500Z
CLASS:PUBLIC
CREATED:20260425T194735
DESCRIPTION:
LAST-MODIFIED:20260425T194735
LOCATION:
SUMMARY:Wednesday Night Kids Program
URL;VALUE=URI:https://www.fbcbluejacket.com/events/wednesday-night-kids-pro
 gram/2026-09-30
ATTACH;FILENAME=kids-logo.jpg;FMTTYPE=image/jpeg:https://dq5pwpg1q8ru0.clou
 dfront.net/2025/08/20/21/14/53/6f926f8d-f436-4e76-9d7a-5c748c73dca9/kids-l
 ogo.jpg
END:VEVENT
END:VCALENDAR
